BEGIN:VCALENDAR
VERSION:2.0
PRODID:Imitheme.com 
BEGIN:VEVENT
UID:20260420T1546071765677045
DTSTAMP;TZID=UTC:20260420T154607
DTSTART;TZID=UTC:20260420T193000
DTEND;TZID=UTC:20260420T210000
SUMMARY:Smart Ways To Pay For College
LOCATION:Zoom - Webinar
DESCRIPTION:🎓 Smart Ways To Pay For College Join the Bronx Alumnae Chapter’s Financial Fortitude and Scholarship Committees\, in partnership with Zeta Zeta Lambda of Alpha Phi Alpha Fraternity\, Inc. and The Percy Sutton S.E.E.K. Program\, for an empowering session on how to fund your college journey. 📅 November 12\, 2025...
END:VEVENT
END:VCALENDAR
