BEGIN:VCALENDAR
VERSION:2.0
PRODID:Imitheme.com 
BEGIN:VEVENT
UID:20260420T1053582147283196
DTSTAMP;TZID=UTC:20260420T105358
DTSTART;TZID=UTC:20260420T193000
DTEND;TZID=UTC:20260420T220000
SUMMARY:Election Watch Night Party
LOCATION:Code Red
1320 East Gun Hill Road
Bronx\, NY 10469 
DESCRIPTION:🗳️ Election Night Watch Party Join us on Tuesday\, November 4\, 2025\, from 7\:30 PM to 10\:00 PM at Code Red (1320 East Gun Hill Road\, Bronx\, NY 10469) As we come together to witness democracy in action. RSVP — and bring a friend!
END:VEVENT
END:VCALENDAR
